BEGIN:VCALENDAR
VERSION:2.0
PRODID:-//eventon.com NONSGML v1.0//EN
CALSCALE:GREGORIAN
METHOD:PUBLISH
BEGIN:VEVENT
UID:69ecb61907d1a
DTSTAMP:20260425T123953Z
DTSTART:20260530T140000Z
DTEND:20260630T180000Z
LOCATION:
SUMMARY:Craftastic Cart
DESCRIPTION:The craft cart is out and restocked come be creative and make w
 hatever comes to mind!\nhttps://argylepubliclibrary.com/events/craftastic-c
 art-4-2/
URL:https://argylepubliclibrary.com/events/craftastic-cart-4-2/
END:VEVENT
END:VCALENDAR