BEGIN:VCALENDAR
VERSION:2.0
PRODID:-//eventon.com NONSGML v1.0//EN
CALSCALE:GREGORIAN
METHOD:PUBLISH
BEGIN:VEVENT
UID:69eb63be895f5
DTSTAMP:20260424T123614Z
DTSTART:20260526T200000Z
DTEND:20260526T220000Z
LOCATION:
SUMMARY:Homeschool Hangout
DESCRIPTION:Stop by for crafts\,  story time\,  and tutoring assistence.\nh
 ttps://argylepubliclibrary.com/events/homeschool-hangout-6/
URL:https://argylepubliclibrary.com/events/homeschool-hangout-6/
END:VEVENT
END:VCALENDAR