BEGIN:VCALENDAR
VERSION:2.0
PRODID:-//eventon.com NONSGML v1.0//EN
CALSCALE:GREGORIAN
METHOD:PUBLISH
BEGIN:VEVENT
UID:69ecb5b6727e9
DTSTAMP:20260425T123814Z
DTSTART:20260523T140000Z
DTEND:20260523T180000Z
LOCATION:
SUMMARY:Sidewalk Chalk
DESCRIPTION:Come have with drawing with chalk!\nhttps://argylepubliclibrary
 .com/events/sidewalk-chalk/
URL:https://argylepubliclibrary.com/events/sidewalk-chalk/
END:VEVENT
END:VCALENDAR