BEGIN:VCALENDAR
VERSION:2.0
PRODID:-//eventon.com NONSGML v1.0//EN
CALSCALE:GREGORIAN
METHOD:PUBLISH
BEGIN:VEVENT
UID:69eb7efc8dd9d
DTSTAMP:20260424T143228Z
DTSTART:20260505T190000Z
DTEND:20260506T000000Z
LOCATION:
SUMMARY:Spring Crafts
DESCRIPTION:Come do spring themed crafts at the library. (intended for kids
  Preschool/school age)\nhttps://argylepubliclibrary.com/events/spring-craft
 s/
URL:https://argylepubliclibrary.com/events/spring-crafts/
END:VEVENT
END:VCALENDAR