BEGIN:VCALENDAR
VERSION:2.0
PRODID:-//eventon.com NONSGML v1.0//EN
CALSCALE:GREGORIAN
METHOD:PUBLISH
BEGIN:VEVENT
UID:69ecb611e4898
DTSTAMP:20260425T123945Z
DTSTART:20260512T204500Z
DTEND:20260512T223000Z
LOCATION:
SUMMARY:After School Movie
DESCRIPTION:Come watch a movie at the library after school.\nhttps://argyle
 publiclibrary.com/events/after-school-movie/
URL:https://argylepubliclibrary.com/events/after-school-movie/
END:VEVENT
END:VCALENDAR