BEGIN:VCALENDAR
VERSION:2.0
PRODID:-//eventon.com NONSGML v1.0//EN
CALSCALE:GREGORIAN
METHOD:PUBLISH
BEGIN:VEVENT
UID:69eb7f4a8bad6
DTSTAMP:20260424T143346Z
DTSTART:20260502T150000Z
DTEND:20260502T170000Z
LOCATION:
SUMMARY:Free Play Day
DESCRIPTION:There will be a room with toys for kids age 0-8 to engage with 
 their parents & other kids !\nhttps://argylepubliclibrary.com/events/free-p
 lay-day/
URL:https://argylepubliclibrary.com/events/free-play-day/
END:VEVENT
END:VCALENDAR