BEGIN:VCALENDAR
VERSION:2.0
PRODID:-//eventon.com NONSGML v1.0//EN
CALSCALE:GREGORIAN
METHOD:PUBLISH
BEGIN:VEVENT
UID:69e7465c3f37d
DTSTAMP:20260421T094148Z
DTSTART:20251022T010000Z
DTEND:20251022T010000Z
LOCATION:
SUMMARY:Movie Night
DESCRIPTION:Join us as we host a movie based on one of the APL Book Club’
 s recent reads!\nhttps://argylepubliclibrary.com/events/movie-night/
URL:https://argylepubliclibrary.com/events/movie-night/
END:VEVENT
END:VCALENDAR