BEGIN:VCALENDAR
VERSION:2.0
PRODID:-//eventon.com NONSGML v1.0//EN
CALSCALE:GREGORIAN
METHOD:PUBLISH
BEGIN:VEVENT
UID:69e4ec4e9e7ed
DTSTAMP:20260419T145302Z
DTSTART:20250805T200000Z
DTEND:20250805T220000Z
LOCATION:
SUMMARY:Kits and Flicks
DESCRIPTION:\nhttps://argylepubliclibrary.com/events/kits-and-flicks/
URL:https://argylepubliclibrary.com/events/kits-and-flicks/
END:VEVENT
END:VCALENDAR