BEGIN:VCALENDAR
VERSION:2.0
PRODID:-//eventon.com NONSGML v1.0//EN
CALSCALE:GREGORIAN
METHOD:PUBLISH
BEGIN:VEVENT
UID:69e745fa739da
DTSTAMP:20260421T094010Z
DTSTART:20250724T150000Z
DTEND:20250725T045000Z
LOCATION:
SUMMARY:Bats with Mark
DESCRIPTION:\nhttps://argylepubliclibrary.com/events/bats-with-mark/
URL:https://argylepubliclibrary.com/events/bats-with-mark/
END:VEVENT
END:VCALENDAR