BEGIN:VCALENDAR
VERSION:2.0
PRODID:-//eventon.com NONSGML v1.0//EN
CALSCALE:GREGORIAN
METHOD:PUBLISH
BEGIN:VEVENT
UID:69ecb54a37e0b
DTSTAMP:20260425T123626Z
DTSTART:20260507T210000Z
DTEND:20260507T220000Z
LOCATION:
SUMMARY:Book Club @ the EMS Building
DESCRIPTION:The Book Club meets the first Thursday of each month.\nhttps://
 argylepubliclibrary.com/events/book-club-the-ems-building/
URL:https://argylepubliclibrary.com/events/book-club-the-ems-building/
END:VEVENT
END:VCALENDAR